BEGIN:VCALENDAR
PRODID:-//eluceo/ical//2.0/EN
VERSION:2.0
CALSCALE:GREGORIAN
BEGIN:VEVENT
UID:c574221d870f8dbd8e518cac570adfa5
DTSTAMP:20260420T181010Z
SUMMARY:Community wide Yom Ha'Atzmaut
DESCRIPTION:Jewish Federation of West-Central New Jersey\nCommunity Calenda
 r\nhttps://jfedwcnj.org/calendar/community-wide-yom-haatzmaut-1546277874\n
 \nPop- Up Israel \n\nCommunity Yom Ha'Atzmaut Experience all that Israel 
 has to offer. \n\n5:30pm- 7:30 PM \n\n$10 per Family \n\n*Innovation * 
 Archaeology * Israeli Games * Army Training (including rope challange cour
 se) * Israeli Wine Tasting * Inflatable * Coommunbity Sing -A- Long * Pita
  Making * Israelie Food for Purches \n\n \n\nSpeaker\, Rabbi Dan Selsber
 g:  7:00 pm\n\nFirst Things First: An Interactive Look at Israel's Decla
 ration of Independence 
DTSTART;TZID=America/New_York:20190509T170000
DTEND;TZID=America/New_York:20190509T200000
END:VEVENT
END:VCALENDAR
