BEGIN:VCALENDAR
PRODID:-//eluceo/ical//2.0/EN
VERSION:2.0
CALSCALE:GREGORIAN
BEGIN:VEVENT
UID:fa46740533666178e955ae7270b32ba6
DTSTAMP:20260421T213136Z
SUMMARY:Community-Wide Jewish Healing Service
DESCRIPTION:Jewish Federation of West-Central New Jersey\nCommunity Calenda
 r\nhttps://jfedwcnj.org/calendar/community-wide-jewish-healing-service-144
 8475529\n\nOpen to all.
DTSTART;TZID=America/New_York:20160110T190000
DTEND;TZID=America/New_York:20160110T203000
END:VEVENT
END:VCALENDAR
