BEGIN:VCALENDAR
PRODID:-//eluceo/ical//2.0/EN
VERSION:2.0
CALSCALE:GREGORIAN
BEGIN:VEVENT
UID:81f35f8eeead38f258d9ae321c997c81
DTSTAMP:20260423T191235Z
SUMMARY:Community-wide Holocaust Remembrance Day Program
DESCRIPTION:Jewish Federation of West-Central New Jersey\nCommunity Calenda
 r\nhttps://jfedwcnj.org/calendar/community-wide-holocaust-remembrance-day-
 program\n\nIn-Person Event with Author Richard Hurowitz\n\nThe Second Worl
 d War took the lives of more than 50 million\, more than six million exter
 minated through crimes of such enormity\, a new name to describe the horr
 or was coined: the Holocaust. Yet amid such darkness there were glimmers o
 f light. In the Garden of the Righteous chronicles extraordinary acts at 
 a time when the moral choices were stark\, the threat immense\, and the pa
 ssive apathy of millions predominated. In the Garden of the Righteou...
DTSTART;TZID=America/New_York:20240123T190000
DTEND;TZID=America/New_York:20240123T210000
END:VEVENT
END:VCALENDAR
