BEGIN:VCALENDAR
PRODID:-//eluceo/ical//2.0/EN
VERSION:2.0
CALSCALE:GREGORIAN
BEGIN:VEVENT
UID:a1be4f072202f6261b0ed200feb4681c
DTSTAMP:20260423T065122Z
SUMMARY:Community-wide Holocaust Remembrance Day Observance.
DESCRIPTION:Jewish Federation of West-Central New Jersey\nCommunity Calenda
 r\nhttps://jfedwcnj.org/calendar/community-wide-holocaust-remembrance-day-
 observance\n\nJoin us for this special in-person event as we hear from Aro
 n Goodman about the Tova-Tok that he created on Tik Tok in order to share 
 his grandmother’s story of survival in Auschwitz. We will hear from thre
 e generations about remembrance and the ways we can reach more people.\n\n
 This event is free\, in-person\, and open to the public.\n\nRegistration i
 s required: online at ssbjcc.org\, at the JCC welcome Center\, or by calli
 ng 908.443.9018.\n\nThis event is presented in partnership with The Jew...
DTSTART;TZID=America/New_York:20230126T190000
DTEND;TZID=America/New_York:20230126T210000
END:VEVENT
END:VCALENDAR
