BEGIN:VCALENDAR
PRODID:-//eluceo/ical//2.0/EN
VERSION:2.0
CALSCALE:GREGORIAN
BEGIN:VEVENT
UID:227f2545b37ebbfb7cb1ce7dd184f8df
DTSTAMP:20260422T010908Z
SUMMARY:Community Second Seder
DESCRIPTION:Jewish Federation of West-Central New Jersey\nCommunity Calenda
 r\nhttps://jfedwcnj.org/calendar/community-second-seder\n\nCommunity Secon
 d Seder\n\nApril 16\, 2022\, 6:00 pm - 7:15 pm\n\nAdd to iCal | Add to G
 oogle Calendar\n\n\n\nJoin Rabbi Gluck and Cantor Risa Wallach as they lea
 d us on the second night of Pesach in a Zoom Seder!\n\n15 Nisan\, Saturday
 \, March 16 • 6:00 p.m.\n\nHomes from across our temple family will conn
 ect online to share a joyous celebration.\n\nThe Haggadah will be shown on
  screen. Use the Chat feature to enter the discussion.\n\nWe’re looking 
 forward to celebrating Pesach with you!\n...
DTSTART;TZID=America/New_York:20220416T180000
DTEND;TZID=America/New_York:20220416T191500
END:VEVENT
END:VCALENDAR
