BEGIN:VCALENDAR
PRODID:-//eluceo/ical//2.0/EN
VERSION:2.0
CALSCALE:GREGORIAN
BEGIN:VEVENT
UID:9770db9507f24c6e416cd26017c26a06
DTSTAMP:20260422T142551Z
SUMMARY:Community Purim Extravaganza
DESCRIPTION:Jewish Federation of West-Central New Jersey\nCommunity Calenda
 r\nhttps://jfedwcnj.org/calendar/community-purim-extravaganza\n\nNot the w
 hole Megillah\, part of it\, along with games\, and... you'll never guess.
 .. hamentaschen! (Along with learning for adults..)\n\nFree to Community\n
 \nQuestions? Contact Ilene Cohen\, ilenecohen@temple-sholom.net\, 908-722-
 1339
DTSTART;TZID=America/New_York:20200308T100000
DTEND;TZID=America/New_York:20200308T120000
END:VEVENT
END:VCALENDAR
