BEGIN:VCALENDAR
PRODID:-//eluceo/ical//2.0/EN
VERSION:2.0
CALSCALE:GREGORIAN
BEGIN:VEVENT
UID:675169a9d9d2c45aa8101e0a2aa845eb
DTSTAMP:20260424T225549Z
SUMMARY:Community Purim Carnival\, Bound Brook
DESCRIPTION:Jewish Federation of West-Central New Jersey\nCommunity Calenda
 r\nhttps://jfedwcnj.org/calendar/community-purim-carnival\n\nCelebrate Pur
 im at CKI's annual Purim Carnival!\nOpen to the Community\, FREE ADMISSION
 .\nPlay Skee Ball\, Win Prizes playing Trivia and Skill Games\, Make Craf
 ts\, and Bake Hamantaschen\nFace Painting\, Popcorn\, Snacks\, and Much Mo
 re!\n 
DTSTART;TZID=America/New_York:20200308T093000
DTEND;TZID=America/New_York:20200308T120000
END:VEVENT
END:VCALENDAR
