BEGIN:VCALENDAR
PRODID:-//eluceo/ical//2.0/EN
VERSION:2.0
CALSCALE:GREGORIAN
BEGIN:VEVENT
UID:b9d523f36857f86c5ede94302865a1a8
DTSTAMP:20260425T203300Z
SUMMARY:Community Holocaust Remembrance Day Program
DESCRIPTION:Jewish Federation of West-Central New Jersey\nCommunity Calenda
 r\nhttps://jfedwcnj.org/calendar/community-holocaust-remembrance-day-progr
 am\n\nCommunity Holocaust Remembrance Day Program. Presented by The RVCC 
 Institute of Holocaust and Genocide Studies & The Jewish Federation of Som
 erset\, Hunterdon\, & Warren Counties. 
DTSTART;TZID=America/New_York:20210127T190000
DTEND;TZID=America/New_York:20210127T200000
END:VEVENT
END:VCALENDAR
