BEGIN:VCALENDAR
PRODID:-//eluceo/ical//2.0/EN
VERSION:2.0
CALSCALE:GREGORIAN
BEGIN:VEVENT
UID:5ce72c08c694f32f2f69fb5ce32622d8
DTSTAMP:20260424T232931Z
SUMMARY:Community Health Fair
DESCRIPTION:Jewish Federation of West-Central New Jersey\nCommunity Calenda
 r\nhttps://jfedwcnj.org/calendar/community-health-fair\n\nCommunity Health
  Fair \n\nFree Health Screenings & Health Information \n\nTuesday\, Febr
 uary 20th \n\n3-6pm \n\n775 Talamini Road\, Bridgewater\, NJ 08807 \n\n
 In partnership with: \n\nThe Bristal of Somerset\n\nCommunity in Crisis 
 \n\nENT & Allergy\, LLC \n\nFox Rehab\n\nHome Instead \n\nRobert Wood Jo
 hnson University Hospial\, Somerset\n\n \n\nFor questions contact Lauren 
 Edelman at 908.758.2003 or Ledelman@jfedwcnj.org \n\n 
DTSTART;TZID=America/New_York:20240220T150000
DTEND;TZID=America/New_York:20240220T180000
END:VEVENT
END:VCALENDAR
