BEGIN:VCALENDAR
PRODID:-//eluceo/ical//2.0/EN
VERSION:2.0
CALSCALE:GREGORIAN
BEGIN:VEVENT
UID:015c85a9fb669365f1072ffc63f03e31
DTSTAMP:20260422T060956Z
SUMMARY:Community Havdalah for Kids
DESCRIPTION:Jewish Federation of West-Central New Jersey\nCommunity Calenda
 r\nhttps://jfedwcnj.org/calendar/community-havdalah-for-kids\n\nJoin us fr
 om 5:00-6:00 pm for Havdallah craft stations featuring Kiddish cup\, candl
 es\, spices and more. Please bring a shoebox to decorate as a Havdallah se
 rvice. At 6:00pm we will enjoy a 15-minute Havdallah service led by\nIlene
  Cohen\, Temple Sholom’s Director of Youth Education and Engagement. Sna
 cks provided. Recommended for pre-school through elementary-aged children 
 and their families.\n\nYou must RSVP in advance at the JCC\n\n908-725-6994
   or Go On-Line
DTSTART;TZID=America/New_York:20170128T170000
DTEND;TZID=America/New_York:20170128T180000
END:VEVENT
END:VCALENDAR
