BEGIN:VCALENDAR
PRODID:-//eluceo/ical//2.0/EN
VERSION:2.0
CALSCALE:GREGORIAN
BEGIN:VEVENT
UID:b1e14db2644f237f6d38d40d949149c5
DTSTAMP:20260421T193536Z
SUMMARY:Community Havdalah & Board Games-Sensory Friendly Programming
DESCRIPTION:Jewish Federation of West-Central New Jersey\nCommunity Calenda
 r\nhttps://jfedwcnj.org/calendar/community-havdalah--board-games-sensory-f
 riendly-programming-1516914826\n\nCome to Temple Sholom to celebrate the e
 nding of Shabbat with the Havdalah ceremony and songs. We will follow Havd
 alah with board games for all ages and ice cream sundaes in a sensory frie
 ndly atmosphere\, to ensure everyone can participate. The event starts at 
 6pm in the Blumberg Chapel. This event is part of Jewish Disabilities and 
 Inclusion Awareness month\, open to the entire community\, you do not need
  to be a member of Temple Sholom to attend. If you or your family member w
 ould benefit fro...
DTSTART;TZID=America/New_York:20180210T180000
DTEND;TZID=America/New_York:20180210T200000
END:VEVENT
END:VCALENDAR
