BEGIN:VCALENDAR
PRODID:-//eluceo/ical//2.0/EN
VERSION:2.0
CALSCALE:GREGORIAN
BEGIN:VEVENT
UID:2f1d50c5882fd6ee5292ac0f83f62071
DTSTAMP:20260422T131458Z
SUMMARY:COMMUNITY COMMEMORATION OF HOLOCAUST AND HEROISM REMEMBRANCE DAY
DESCRIPTION:Jewish Federation of West-Central New Jersey\nCommunity Calenda
 r\nhttps://jfedwcnj.org/calendar/community-commemoration-of-holocaust-and-
 heroism-remembrance-day\n\nYom HaShoah V'Hagevurah \n\nCommuity Community
  Commemoration of Holocaust and Heroism Remembrance Day \n\nTestiomony fr
 om\n\n Ilya Gurariy\nSurvivor from Ukraine\n\n \n\nRegister for Zoom lin
 k\n\nor \n\nAttend In person at Temple Sholom\n\n \n\n 
DTSTART;TZID=America/New_York:20220427T190000
DTEND;TZID=America/New_York:20220427T210000
END:VEVENT
END:VCALENDAR
