BEGIN:VCALENDAR
PRODID:-//eluceo/ical//2.0/EN
VERSION:2.0
CALSCALE:GREGORIAN
BEGIN:VEVENT
UID:57798623ce98b054c04d7b71be8b8baa
DTSTAMP:20260423T013315Z
SUMMARY:Community Call to Action Program with ADL
DESCRIPTION:Jewish Federation of West-Central New Jersey\nCommunity Calenda
 r\nhttps://jfedwcnj.org/calendar/community-call-to-action-program-with-adl
 \n\nCommunity Call to Action\n\nA Panel Discussion about Handling the Rise
  in Antisemitism in Our Schools\n\nFree For Teachers\, School Administrato
 rs & Parents\n\n\n10/11/23\n7 PM\nTemple Sholom\n594 North Bridge St\nBrid
 gewater\, NJ\n\n \n\nMore info:\n\nledelman@JFedWCNJ.org\n\n908.758.2003
DTSTART;TZID=America/New_York:20231011T190000
DTEND;TZID=America/New_York:20231011T210000
END:VEVENT
END:VCALENDAR
