BEGIN:VCALENDAR
PRODID:-//eluceo/ical//2.0/EN
VERSION:2.0
CALSCALE:GREGORIAN
BEGIN:VEVENT
UID:4b7540acd61a53bfc1439aabb8dda483
DTSTAMP:20260422T005107Z
SUMMARY:Community Briefing on the War in Israel
DESCRIPTION:Jewish Federation of West-Central New Jersey\nCommunity Calenda
 r\nhttps://jfedwcnj.org/calendar/community-briefing-on-the-war-in-israel-\
 n\nCommunity Briefing on the War in Israel with Deputy Consul General of
  Israel\, Tsach Saar\n\nPlease join us for this insider's look into what i
 s happening on the ground in Israel and Gaza\, and what the future might h
 old in the aftermath of the war.  \n\n \n\nJanuary 25\, 2024 at 7pm \n
 \n775 Talamini Road\, Bridgewater\, NJ\n\nFor questions contact Lauren Ede
 lman at 908-758-2003 or ledelman@jfedwcnj.org  
DTSTART;TZID=America/New_York:20240125T190000
DTEND;TZID=America/New_York:20240125T210000
END:VEVENT
END:VCALENDAR
