BEGIN:VCALENDAR
PRODID:-//eluceo/ical//2.0/EN
VERSION:2.0
CALSCALE:GREGORIAN
BEGIN:VEVENT
UID:34803f0b45c904d51df667f928b4f4a7
DTSTAMP:20260422T021522Z
SUMMARY:Community Briefing About Ellen and Robin's Trip to Ukraine/Poland B
 order
DESCRIPTION:Jewish Federation of West-Central New Jersey\nCommunity Calenda
 r\nhttps://jfedwcnj.org/calendar/community-briefing-about-ellen-and-robins
 -trip-to-ukrainepoland-border\n\nEllen Teller\, President\, and Robin Wish
 nie\, Executive Director are traveling to Poland in support of our Federat
 ion partners serving the immediate needs of refugees crossing the border f
 rom Ukraine. Join us for a Community Briefing to hear first-hand about t
 heir experience. \n\nRegister at:https://us02web.zoom.us/meeting/register
 /tZAqcO2rrDMuHNyf-j4mn5iHC0AM8Tonle9K\n\n 
DTSTART;TZID=America/New_York:20220412T190000
DTEND;TZID=America/New_York:20220412T210000
END:VEVENT
END:VCALENDAR
