BEGIN:VCALENDAR
PRODID:-//eluceo/ical//2.0/EN
VERSION:2.0
CALSCALE:GREGORIAN
BEGIN:VEVENT
UID:cb9bd0392fa88134edc68183d9c80c99
DTSTAMP:20260422T173733Z
SUMMARY:Community Block Party Featuring 5th Annual Dog Day at the J!
DESCRIPTION:Jewish Federation of West-Central New Jersey\nCommunity Calenda
 r\nhttps://jfedwcnj.org/calendar/community-block-party-featuring-5th-annua
 l-dog-day-at-the-j-1468432083\n\nThis year Dog Day will be even bigger and
  better\, as it is now part of our JCC Community Block Party\, which is a 
 free event for JCC members and is open and free to the entire local commun
 ity.  The JCC Community Block Party will feature food\, music\, games and 
 activities for kids of all ages.  For our  &ldquo\;four legged&rdquo\; fam
 ily members we will have Animal Rescues &amp\; Adoption\, Contests\, Dog B
 lessing \, a K9 Officer\, vendors providing services and product and more&
 hellip\;
DTSTART;TZID=America/New_York:20160918T110000
DTEND;TZID=America/New_York:20160918T140000
END:VEVENT
END:VCALENDAR
