BEGIN:VCALENDAR
PRODID:-//eluceo/ical//2.0/EN
VERSION:2.0
CALSCALE:GREGORIAN
BEGIN:VEVENT
UID:22fb3503848dbe092255b113cb24bd0b
DTSTAMP:20260423T161538Z
SUMMARY:Commemorating Kristallnacht with Holocaust Survivor Mark Schonwette
 r
DESCRIPTION:Jewish Federation of West-Central New Jersey\nCommunity Calenda
 r\nhttps://jfedwcnj.org/calendar/commemorating-kristallnacht-with-holocaus
 t-survivor-mark-schonwetter\n\nA Young Boy\, A Dark Time\, Commemorating K
 ristallnacht with Holocaust Survivor Mark Schonwetter \n\nWednesday\, Nov
 ember 8th\, 10 am (Online)\n\nMark Schonwetter will share his harrowing st
 ory of survival during the Holocaust as we remember the pogrom in Germany 
 that happened on November 9th & 10th of 1938. As a child born in Poland in
  1933\, Mark\, his sister\, and their mother survived in the ghetto\, in h
 iding\, and managed to make a beautiful life for themselves after the war.
  Join us to hear th...
DTSTART;TZID=America/New_York:20231108T100000
DTEND;TZID=America/New_York:20231108T110000
END:VEVENT
END:VCALENDAR
