BEGIN:VCALENDAR
PRODID:-//eluceo/ical//2.0/EN
VERSION:2.0
CALSCALE:GREGORIAN
BEGIN:VEVENT
UID:28830b7458d310d3695bca64212545a2
DTSTAMP:20260423T132450Z
SUMMARY:Commemoratating October 7th
DESCRIPTION:Jewish Federation of West-Central New Jersey\nCommunity Calenda
 r\nhttps://jfedwcnj.org/calendar/commemoratating-october-7th\n\nJoin us fo
 r a reflective commemoration marking the one year anniversary of the tragi
 c attack on Israel that occurred on\nOctober 7.\nCeremony & Community Dinn
 er
DTSTART;TZID=America/New_York:20241007T190000
DTEND;TZID=America/New_York:20241007T210000
END:VEVENT
END:VCALENDAR
