BEGIN:VCALENDAR
PRODID:-//eluceo/ical//2.0/EN
VERSION:2.0
CALSCALE:GREGORIAN
BEGIN:VEVENT
UID:5449465d559534a0e290d4f7efc941da
DTSTAMP:20260421T151440Z
SUMMARY:ComedySportz NYC
DESCRIPTION:Jewish Federation of West-Central New Jersey\nCommunity Calenda
 r\nhttps://jfedwcnj.org/calendar/comedysportz-nyc-1554146471\n\nNYC Improv
  Comedian comes to Flemington\nComedySportz featuring Jason Quinn present 
 Family Comedy & Improv held at the FJCC in Flemington on Sunday\, April 14
 th at 2:00 pm. Jason Quinn has performed improv and musical improv since 2
 001. As an actor\, Jason has had roles in movies and on TV\, performed in 
 sketch shows and been in plays and appeared in numerous commercials. Every
 one young and old is invited to attend and the cost is $20/adult\, $5/chil
 d. Please click here to register: https://conta...
DTSTART;TZID=America/New_York:20190414T020000
DTEND;TZID=America/New_York:20190414T160000
END:VEVENT
END:VCALENDAR
