BEGIN:VCALENDAR
PRODID:-//eluceo/ical//2.0/EN
VERSION:2.0
CALSCALE:GREGORIAN
BEGIN:VEVENT
UID:7b4e27705a949aa2236b057fbb2535eb
DTSTAMP:20260423T183553Z
SUMMARY:Improv Comedy Night
DESCRIPTION:Jewish Federation of West-Central New Jersey\nCommunity Calenda
 r\nhttps://jfedwcnj.org/calendar/comedy-sports-night\n\nA hilarious evenin
 g with audience participation\nNot your ordinary \n\nImprov Comedy Night\
 nfeaturing the New York improv comedy troupe\nComedy Sportz\nAppetizers - 
 Beer & Wine - Desserts\n$45 \nto register: https://conta.cc/2m9a9PN
DTSTART;TZID=America/New_York:20191116T193000
DTEND;TZID=America/New_York:20191116T220000
END:VEVENT
END:VCALENDAR
