BEGIN:VCALENDAR
PRODID:-//eluceo/ical//2.0/EN
VERSION:2.0
CALSCALE:GREGORIAN
BEGIN:VEVENT
UID:116932a116682fd7a0f18810e7e50302
DTSTAMP:20260421T205723Z
SUMMARY:Comedy Night at Temple Sholom!
DESCRIPTION:Jewish Federation of West-Central New Jersey\nCommunity Calenda
 r\nhttps://jfedwcnj.org/calendar/comedy-night-at-temple-sholom\n\nJoin Tem
 ple Sholom for a night of comedy!\n\nDetails to be announced!
DTSTART;TZID=America/New_York:20180120T190000
DTEND;TZID=America/New_York:20180120T220000
END:VEVENT
END:VCALENDAR
