BEGIN:VCALENDAR
PRODID:-//eluceo/ical//2.0/EN
VERSION:2.0
CALSCALE:GREGORIAN
BEGIN:VEVENT
UID:b3b613c0c34f34e94f8bf99295288f6a
DTSTAMP:20260420T135659Z
SUMMARY:Comedy for a Cause
DESCRIPTION:Jewish Federation of West-Central New Jersey\nCommunity Calenda
 r\nhttps://jfedwcnj.org/calendar/comedy-for-a-cause-1487094205\n\nJoin us 
 for a night of comedy\, starring Judy Gold (comedian\, actor\, writer\, ho
 st & big mouth)\, benefiting victims of domestic abuse\, locally and in Is
 rael.
DTSTART;TZID=America/New_York:20170504T193000
DTEND;TZID=America/New_York:20170504T213000
END:VEVENT
END:VCALENDAR
