BEGIN:VCALENDAR
PRODID:-//eluceo/ical//2.0/EN
VERSION:2.0
CALSCALE:GREGORIAN
BEGIN:VEVENT
UID:b603aa0bd89cb54c3ec32a8218e122e2
DTSTAMP:20260424T023134Z
SUMMARY:Come Support Our LGBTQ Community! Phoenix Schneider
DESCRIPTION:Jewish Federation of West-Central New Jersey\nCommunity Calenda
 r\nhttps://jfedwcnj.org/calendar/come-support-our-lgbtq-community-phoenix-
 schneider\n\nLearn what LGBTQ means\, the broad spectrum of gender and sex
 ual orientation\, and how we can best support loved ones in their expresse
 d identity. This is the time for education and Q & A!! The program is open
  to one and all. \n\nPhoenix Schneider\, MSW\, is a trans activist and so
 cial worker who has worked in the nonprofit sector since 2000. Phoenix spe
 cializes in program development and direct services with the LGBTQ communi
 ties. Phoenix is a thought leader in the area of LGBTQ youth and menta...
DTSTART;TZID=America/New_York:20180425T190000
DTEND;TZID=America/New_York:20180425T210000
END:VEVENT
END:VCALENDAR
