BEGIN:VCALENDAR
PRODID:-//eluceo/ical//2.0/EN
VERSION:2.0
CALSCALE:GREGORIAN
BEGIN:VEVENT
UID:239c68355924f9f6ce90da0d715bc650
DTSTAMP:20260422T163451Z
SUMMARY:Club Gelbe Stern\, Cabaret at the J! Berlin's Last Starlit Night
DESCRIPTION:Jewish Federation of West-Central New Jersey\nCommunity Calenda
 r\nhttps://jfedwcnj.org/calendar/club-gelbe-stern-cabaret-at-the-j-berlins
 -last-starlit-night\n\nStep back in time to the 1930’s! Starring Alexis 
 Fishman\, Club Gelbe Stern tells the story of Erika Stern\, a fictional Je
 wish Chanteuse living and performing in Berlin as the Nazis take power. Er
 ika is provocative\, sassy\, feisty\, and above all\, determined to give a
  magnificent performance to her loyal audience.
DTSTART;TZID=America/New_York:20170422T193000
DTEND;TZID=America/New_York:20170422T213000
END:VEVENT
END:VCALENDAR
