BEGIN:VCALENDAR
PRODID:-//eluceo/ical//2.0/EN
VERSION:2.0
CALSCALE:GREGORIAN
BEGIN:VEVENT
UID:37337378c1aa8b0902fb5c340bd10f1b
DTSTAMP:20260423T131731Z
SUMMARY:CKI Fundraiser - Rummage Sale day 2
DESCRIPTION:Jewish Federation of West-Central New Jersey\nCommunity Calenda
 r\nhttps://jfedwcnj.org/calendar/cki-fundraiser-rummage-sale-day2\n\nCKI's
  annual Rummage Sale fundraiser will take place May 18 (Thurs)\, 19 (Fri) 
 & 21 (Sun)\, from 8 - 2 pm each day. The final Sunday will be an all-day B
 ag and Box sale - pay one price for a bag or box and fill it up! On Thursd
 ay and Friday\, parking is available in the church parking lot at Mountain
  and High Streets.\n\n \n\n\n\nThere's something for everyone: clothing\,
  housewares\, decorative items\, hardware\, and much more. Many items are 
 just $1.00.
DTSTART;TZID=America/New_York:20230519T000000
DTEND;TZID=America/New_York:20230519T140000
END:VEVENT
END:VCALENDAR
