BEGIN:VCALENDAR
PRODID:-//eluceo/ical//2.0/EN
VERSION:2.0
CALSCALE:GREGORIAN
BEGIN:VEVENT
UID:bcb7021a5553361d37ff1dd12a3ce2b4
DTSTAMP:20260423T184610Z
SUMMARY:CKI Fundraiser - Rummage Sale day 3
DESCRIPTION:Jewish Federation of West-Central New Jersey\nCommunity Calenda
 r\nhttps://jfedwcnj.org/calendar/cki-fundraiser-rummage-sale-day-3\n\nMay 
 21\, the final day of CKI's annual Rummage Sale fundraiser is an all-day B
 ag and Box sale - pay one price for a bag or box and fill it up! \n\n \n\
 n\n\nThere's something for everyone: clothing\, housewares\, decorative it
 ems\, hardware\, and much more.
DTSTART;TZID=America/New_York:20230521T080000
DTEND;TZID=America/New_York:20230521T140000
END:VEVENT
END:VCALENDAR
