BEGIN:VCALENDAR
PRODID:-//eluceo/ical//2.0/EN
VERSION:2.0
CALSCALE:GREGORIAN
BEGIN:VEVENT
UID:a28250a59ab4aebad2deacc201278840
DTSTAMP:20260422T181012Z
SUMMARY:CKI Fundraiser - Rummage Sale
DESCRIPTION:Jewish Federation of West-Central New Jersey\nCommunity Calenda
 r\nhttps://jfedwcnj.org/calendar/cki-fundraiser-rummage-sale\n\nCI's annua
 l Rummage Sale fundraiser will take place 18 (Thurs)\, 19 (Fri) & 21 (Sun)
 \, from 8 - 2 pm each day. The final Sunday will be an all-day Bag and Box
  sale - pay one price for a bag or box and fill it up! On Thursday and Fri
 day\, parking is available in the church parking lot at Mountain and High 
 Streets.\n\n \n\n\n\nThere's something for everyone: clothing\, houseware
 s\, decorative items\, hardware\, and much more. Many items are just $1.00
 .
DTSTART;TZID=America/New_York:20230518T080000
DTEND;TZID=America/New_York:20230518T140000
END:VEVENT
END:VCALENDAR
