BEGIN:VCALENDAR
PRODID:-//eluceo/ical//2.0/EN
VERSION:2.0
CALSCALE:GREGORIAN
BEGIN:VEVENT
UID:aebe1217d65cbf3a0d6c337e3ce550ce
DTSTAMP:20260421T204846Z
SUMMARY:CKI Annual Rummage Sale
DESCRIPTION:Jewish Federation of West-Central New Jersey\nCommunity Calenda
 r\nhttps://jfedwcnj.org/calendar/cki-annual-rummage-sale-1456103148\n\nCKI
 &#039\;s 4-day Rummage Sale will take place on Sunday May 8 / Thursday May
  12 / Friday May 13 / Sunday May 15.  8 am - 2 pm each day. Starting at 10
 :30 am on May 15th\, fill a bag or box with all you want for one low price
 ! The sale is held Rain or Shine. 
DTSTART;TZID=America/New_York:20160508T080000
DTEND;TZID=America/New_York:20160515T140000
END:VEVENT
END:VCALENDAR
