BEGIN:VCALENDAR
PRODID:-//eluceo/ical//2.0/EN
VERSION:2.0
CALSCALE:GREGORIAN
BEGIN:VEVENT
UID:bcfd907d8f3838b5956b24bf6138b82c
DTSTAMP:20260423T115347Z
SUMMARY:CKI 100th Anniversary Celebration Gala
DESCRIPTION:Jewish Federation of West-Central New Jersey\nCommunity Calenda
 r\nhttps://jfedwcnj.org/calendar/cki-100th-anniversary-celebration\n\nCKI 
 invites all our friends and past members to celebrate with us as we wrap u
 p our 100th Anniversary year with a Gala Evening. This elegant evening wil
 l feature music\, Hors d’Oeuvres\, a Wine Bar\, and a Viennese Dessert T
 able\n\n\n\n \n\nDress to Impress! RSVP to: Pam Barr\, events@ckibbnj.org
 . Minimum Donation: $36 per person.\n\n \n\nThis event is partially funde
 d through a grant from the Jewish Federation of Somerset\, Hunterdon\, and
  Warren Counties.
DTSTART;TZID=America/New_York:20230610T190000
DTEND;TZID=America/New_York:20230610T220000
END:VEVENT
END:VCALENDAR
