BEGIN:VCALENDAR
PRODID:-//eluceo/ical//2.0/EN
VERSION:2.0
CALSCALE:GREGORIAN
BEGIN:VEVENT
UID:9c11e7d59ddc6edade719f02007a1578
DTSTAMP:20260423T210810Z
SUMMARY:"Children of the Holocaust Remember" Documentary Film
DESCRIPTION:Jewish Federation of West-Central New Jersey\nCommunity Calenda
 r\nhttps://jfedwcnj.org/calendar/children-of-the-holocaust-remember-docume
 ntary-film-1555606338\n\nA new documentary\, Children of the Holocaust Rem
 ember\, featuring eight Holocaust survivors being interviewed by local Som
 erset County Middle School students\, will be screened on Friday\, May 3 a
 t 7:30 pm at Temple Har Shalom in Warren\, N.J. The event is open to the p
 ublic.
DTSTART;TZID=America/New_York:20190503T193000
DTEND;TZID=America/New_York:20190503T213000
END:VEVENT
END:VCALENDAR
