BEGIN:VCALENDAR
PRODID:-//eluceo/ical//2.0/EN
VERSION:2.0
CALSCALE:GREGORIAN
BEGIN:VEVENT
UID:26e2f67404cb258588d31718fb52ca50
DTSTAMP:20260422T085605Z
SUMMARY:Chef Stephen Wolff  of Culinary Creations A Cooking Demonstration &
  Tasting
DESCRIPTION:Jewish Federation of West-Central New Jersey\nCommunity Calenda
 r\nhttps://jfedwcnj.org/calendar/chef-stephen-wolff-of-culinary-creations-
 a-cooking-demonstration--tasting\n\nBaked Stuffed Flounder\, Mujara (Bahar
 at)\,  and Roasted Vegetable Terrine \nHis passion for all things culinary
  and enjoyment of learning new cooking styles have endeared Chef Stephen t
 o his clients and cooking class students.\n
DTSTART;TZID=America/New_York:20200322T120000
DTEND;TZID=America/New_York:20200322T140000
END:VEVENT
END:VCALENDAR
