BEGIN:VCALENDAR
PRODID:-//eluceo/ical//2.0/EN
VERSION:2.0
CALSCALE:GREGORIAN
BEGIN:VEVENT
UID:2e36f811a994b49297be2eadff3fb43a
DTSTAMP:20260422T150556Z
SUMMARY:Character Breakfast
DESCRIPTION:Jewish Federation of West-Central New Jersey\nCommunity Calenda
 r\nhttps://jfedwcnj.org/calendar/character-breakfast\n\nDress up as your f
 avorite character and come on inside to join eight of your Character Frien
 ds for:\n\n \n\n\nGames\nActivities\nCrafts\nBrunch\n\n\n \n\nRegister a
 s an individual or a family.\n\n\nDiscount Member fee $12/person\nFee: $15
 /person\nMaximum: $50/family
DTSTART;TZID=America/New_York:20230205T100000
DTEND;TZID=America/New_York:20230205T120000
END:VEVENT
END:VCALENDAR
