BEGIN:VCALENDAR
PRODID:-//eluceo/ical//2.0/EN
VERSION:2.0
CALSCALE:GREGORIAN
BEGIN:VEVENT
UID:1dd8d313c27e6f4699d82fd144fbe75f
DTSTAMP:20260422T193400Z
SUMMARY:Chanukah Shabbat Dinner
DESCRIPTION:Jewish Federation of West-Central New Jersey\nCommunity Calenda
 r\nhttps://jfedwcnj.org/calendar/chanukah-shabbat-dinner\n\nCelebrate Chan
 ukah together with the community and enjoy special Chanukah foods.
DTSTART;TZID=America/New_York:20161230T173000
DTEND;TZID=America/New_York:20161230T193000
END:VEVENT
END:VCALENDAR
