BEGIN:VCALENDAR
PRODID:-//eluceo/ical//2.0/EN
VERSION:2.0
CALSCALE:GREGORIAN
BEGIN:VEVENT
UID:927e6448b16f8b0a789ded9c608ec633
DTSTAMP:20260420T170149Z
SUMMARY:Chanukah LED Robot Show
DESCRIPTION:Jewish Federation of West-Central New Jersey\nCommunity Calenda
 r\nhttps://jfedwcnj.org/calendar/chanukah-led-robot-show-1606933442\n\nCha
 bad of Basking Ridge Presents a Covid friendly Chanukah family Experience\
 ; just drive in\, park and leave the rest to us!
DTSTART;TZID=America/New_York:20201215T173000
DTEND;TZID=America/New_York:20201215T190000
END:VEVENT
END:VCALENDAR
