BEGIN:VCALENDAR
PRODID:-//eluceo/ical//2.0/EN
VERSION:2.0
CALSCALE:GREGORIAN
BEGIN:VEVENT
UID:e826b1b625d23aa317e103914a074fa9
DTSTAMP:20260422T005240Z
SUMMARY:Chanukah "Dish" with Chef Rachel Reuben Date
DESCRIPTION:Jewish Federation of West-Central New Jersey\nCommunity Calenda
 r\nhttps://jfedwcnj.org/calendar/chanukah-dish-with-chef-rachel-reuben-dat
 e-1445907538\n\nEat Well\, Cook Well\, Live Well with Rachel Reuben\, Chop
 ped Champion!  Rachel will teach us new dishes for the holiday table\, whi
 le we gather together to cook\, eat and make delicious food memories! She 
 will help us get some of the  traditional dishes right\, learning techniqu
 es for making and preparing the &ldquo\;big meal&rdquo\; less stressful an
 d more efficient.\nMust RSVP by November 30.Includes samples of the food p
 repared\, recipes and wine!!
DTSTART;TZID=America/New_York:20151203T180000
DTEND;TZID=America/New_York:20151203T210000
END:VEVENT
END:VCALENDAR
