BEGIN:VCALENDAR
PRODID:-//eluceo/ical//2.0/EN
VERSION:2.0
CALSCALE:GREGORIAN
BEGIN:VEVENT
UID:5d1ed7c1c8b24a5d3ad513bdbf97e0f8
DTSTAMP:20260424T063437Z
SUMMARY:Chanukah Candlemaking
DESCRIPTION:Jewish Federation of West-Central New Jersey\nCommunity Calenda
 r\nhttps://jfedwcnj.org/calendar/chanukah-candlemaking-1414526396\n\nCome 
 and dip wicks in wax and make your own candles to use for Chanukah! All ar
 e welcome!  RSVP to SHerman@ssbjcc.org Fee: $10/Child
DTSTART;TZID=America/New_York:20141211T180000
DTEND;TZID=America/New_York:20141211T200000
END:VEVENT
END:VCALENDAR
