BEGIN:VCALENDAR
PRODID:-//eluceo/ical//2.0/EN
VERSION:2.0
CALSCALE:GREGORIAN
BEGIN:VEVENT
UID:d558d2dc6e8aa89fc323a559ce26f24f
DTSTAMP:20260422T023920Z
SUMMARY:Shannon Sarna Modern Jewish Baker - Challah\, Babka\, Bagels & More
DESCRIPTION:Jewish Federation of West-Central New Jersey\nCommunity Calenda
 r\nhttps://jfedwcnj.org/calendar/challah-babka-bagels-more\n\nStep by step
  instruction for the seven core doughs of Jewish baking. Sweet and comfort
 ing Jewish baked goods have brough families together around the table for 
 centuries. In modern Jewish Baker\, Sarna pays homage to those traditions 
 while reinvigorating them with modern flavors and new ideas. One dough at 
 a time she offers the basics for challah\, babka\, bagels\, hamantashcen\,
  rugelach\, pita and matzah. Never one to shy away from innovation.\n\nRec
 ipes include:\nChocolate Chip Hamantaschen\nTom...
DTSTART;TZID=America/New_York:20171008T130000
DTEND;TZID=America/New_York:20171008T150000
END:VEVENT
END:VCALENDAR
