BEGIN:VCALENDAR
PRODID:-//eluceo/ical//2.0/EN
VERSION:2.0
CALSCALE:GREGORIAN
BEGIN:VEVENT
UID:c218512b503b76397d1abe1854d34f88
DTSTAMP:20260422T021609Z
SUMMARY:Chabad of Hunterdon @ Beaver Brooke Country Club
DESCRIPTION:Jewish Federation of West-Central New Jersey\nCommunity Calenda
 r\nhttps://jfedwcnj.org/calendar/chabad-of-hunterdon--beaver-brooke-countr
 y-club-1522074809\n\nPassover 2018 Celebration at Chabad of Hunterdon\n\nF
 ee: $54 for Adults\, $36 for Children under 10\n\nPlease RSVP by March 23r
 d
DTSTART;TZID=America/New_York:20180330T193000
DTEND;TZID=America/New_York:20180330T213000
END:VEVENT
END:VCALENDAR
