BEGIN:VCALENDAR
PRODID:-//eluceo/ical//2.0/EN
VERSION:2.0
CALSCALE:GREGORIAN
BEGIN:VEVENT
UID:83200df48ccb63800a260623883574ad
DTSTAMP:20260422T010336Z
SUMMARY:Chabad Jewish Center of Basking Ridge
DESCRIPTION:Jewish Federation of West-Central New Jersey\nCommunity Calenda
 r\nhttps://jfedwcnj.org/calendar/chabad-jewish-center-of-basking-ridge-152
 2074424\n\nEnjoy handmade Shmura Matzah\, four cups of wine\, together wi
 th family and friends at the Community Passover Seder! Candle Lighting: 7:
 00pm Seder Begins 7:30pm\n\nFee: $36 for Adults\, $25 for Children\, $500 
 to sponsor
DTSTART;TZID=America/New_York:20180330T193000
DTEND;TZID=America/New_York:20180330T213000
END:VEVENT
END:VCALENDAR
