BEGIN:VCALENDAR
PRODID:-//eluceo/ical//2.0/EN
VERSION:2.0
CALSCALE:GREGORIAN
BEGIN:VEVENT
UID:0ce315549dce78a81f63881916d37ceb
DTSTAMP:20260420T040023Z
SUMMARY:Chabad Center for Jewish Life of Hillsborough
DESCRIPTION:Jewish Federation of West-Central New Jersey\nCommunity Calenda
 r\nhttps://jfedwcnj.org/calendar/chabad-center-for-jewish-life-of-hillsbor
 ough-1522076672\n\nCommunity Passover Seder\n\nRelive the Exodus\, discove
 r the eternal meaning of the Haggadah\, and enjoy a community Seder comple
 te with hand-baked Matzah\, Wine\, and a wonderful kosher dinner spiced w
 ith unique traditional customs. Explore the Kabalistic insight on the nu
 mber four: Four cups of wine\, four sons\, four questions and four types o
 f freedom.\n\nFee: $36 per person
DTSTART;TZID=America/New_York:20180331T200000
DTEND;TZID=America/New_York:20180331T220000
END:VEVENT
END:VCALENDAR
