BEGIN:VCALENDAR
PRODID:-//eluceo/ical//2.0/EN
VERSION:2.0
CALSCALE:GREGORIAN
BEGIN:VEVENT
UID:6372ae473ff8d3573c96b23ccca5fcdf
DTSTAMP:20260423T014126Z
SUMMARY:Celebrate Israel Independence Day with Music and Dance
DESCRIPTION:Jewish Federation of West-Central New Jersey\nCommunity Calenda
 r\nhttps://jfedwcnj.org/calendar/celebrate-israel-independence-day-with-mu
 sic-and-dance-1520456749\n\nThe event will feature a panel discussion\, "N
 ew Trends in Israeli Music and Dance\," at 7:00 pm\, followed by a concert
  by IsraBand\, an Israeli cover band playing the classic hits of Israeli m
 usic. The event is free and open to the public. Free parking is available 
 on campus.
DTSTART;TZID=America/New_York:20180419T190000
DTEND;TZID=America/New_York:20180419T220000
END:VEVENT
END:VCALENDAR
