BEGIN:VCALENDAR
PRODID:-//eluceo/ical//2.0/EN
VERSION:2.0
CALSCALE:GREGORIAN
BEGIN:VEVENT
UID:fc30158ed22dbbf03e846037517353af
DTSTAMP:20260423T113637Z
SUMMARY:Celebrate Israel
DESCRIPTION:Jewish Federation of West-Central New Jersey\nCommunity Calenda
 r\nhttps://jfedwcnj.org/calendar/celebrate-israel\n\nCelebrate Israel at 7
 5\n\nOur Community’s Support of Israel Bonds and the State of Israel\n\n
 Join us for a Champagne Brunch By Exquisite Caterers\n\nSunday\, November 
 19\, 2023\n\n10:00 AM-12:00 PM\n\nCouvert: $54/Person\n\nJCC Bridgewater\n
 775 Talamini Rd\, Bridgewater NJ\, 08807\n\nDistinguished Guest Speaker\n\
 nElie Honig\, CNN Senior Legal Analyst and Attorney\n\n\n\nHonorees\n\nEll
 en and Scott Teller\n\n\n\nProgram Dedicated to the Memory of Dr. David Cr
 ystal
DTSTART;TZID=America/New_York:20231119T100000
DTEND;TZID=America/New_York:20231119T120000
END:VEVENT
END:VCALENDAR
