BEGIN:VCALENDAR
PRODID:-//eluceo/ical//2.0/EN
VERSION:2.0
CALSCALE:GREGORIAN
BEGIN:VEVENT
UID:308a95eff9c669c4ad293805840a1d24
DTSTAMP:20260423T014116Z
SUMMARY:Casino Night\, Flemington Jewish Community Center
DESCRIPTION:Jewish Federation of West-Central New Jersey\nCommunity Calenda
 r\nhttps://jfedwcnj.org/calendar/casino-night-flemington-jewish-community-
 center-1550521170\n\nCASINO NIGHT at the Flemington Jewish Community Cente
 r\, 5 Sergeantsville Rd\, Flemington\, NJ on Saturday\, March 9\, 7 PM.  F
 ood\, prizes\, and lots of fun.
DTSTART;TZID=America/New_York:20190309T190000
DTEND;TZID=America/New_York:20190309T230000
END:VEVENT
END:VCALENDAR
