BEGIN:VCALENDAR
PRODID:-//eluceo/ical//2.0/EN
VERSION:2.0
CALSCALE:GREGORIAN
BEGIN:VEVENT
UID:caa02e7ad3c6b1157f50ee5a2e851a45
DTSTAMP:20260421T043806Z
SUMMARY:Casino Night 2020 at the Flemington Jewish Community Center
DESCRIPTION:Jewish Federation of West-Central New Jersey\nCommunity Calenda
 r\nhttps://jfedwcnj.org/calendar/casino-night-2020-at-the-flemington-jewis
 h-community-center-1580743437\n\nJoin us for great fun and prizes at Casin
 o Night\, Flemington Jewish Community Center.
DTSTART;TZID=America/New_York:20200307T190000
DTEND;TZID=America/New_York:20200307T230000
END:VEVENT
END:VCALENDAR
