BEGIN:VCALENDAR
PRODID:-//eluceo/ical//2.0/EN
VERSION:2.0
CALSCALE:GREGORIAN
BEGIN:VEVENT
UID:b169fa5ecea6efc1eb077cd54e8ba2f6
DTSTAMP:20260421T050018Z
SUMMARY:Casino Night
DESCRIPTION:Jewish Federation of West-Central New Jersey\nCommunity Calenda
 r\nhttps://jfedwcnj.org/calendar/casino-night\n\nCasino Night\n\nSaturday\
 , November 12\, 2022 • 18 Cheshvan 5783\n\n7:00 PM - 11:00 PMFJCC\n\n
  \n\n\n \n\n\nEarly Registration by 10/30: $75  after 10/30: $85\nFee i
 ncludes $100 in Casino Cash (BONUS $100 Casino Cash for early registratio
 n!\nRefreshments\, beer\, wine\, & desserts\nLots of great prizes to be wo
 n!\n50/50 raffle
DTSTART;TZID=America/New_York:20221112T190000
DTEND;TZID=America/New_York:20221112T230000
END:VEVENT
END:VCALENDAR
