BEGIN:VCALENDAR
PRODID:-//eluceo/ical//2.0/EN
VERSION:2.0
CALSCALE:GREGORIAN
BEGIN:VEVENT
UID:191bf83a970d140427ba8a95cc9b0ced
DTSTAMP:20260422T135248Z
SUMMARY:CASEY CEP\, FURIOUS HOURS: MURDER\, FRAUD\, AND THE LAST TRIAL OF H
 ARPER LEE
DESCRIPTION:Jewish Federation of West-Central New Jersey\nCommunity Calenda
 r\nhttps://jfedwcnj.org/calendar/casey-cep-furious-hours-murder-fraud-and-
 the-last-trial-of-harper-lee-1600353003\n\nOne of President Barack Obama&r
 squo\;s favorite books of 2019\, a New York Times bestseller and named one
  of the best books of 2019 by Time\, Glamour\, O Magazine\, Town and Count
 ry and more\, Casey Cep brings to life a courtroom drama\, a true-crime th
 riller and a miniature biography of Harper Lee. Reverend Willie Maxwell wa
 s a rural preacher accused of murdering five of his family members for ins
 urance money in the 1970s. With the help of a savvy lawyer\, he escaped ju
 stice for years until a relative...
DTSTART;TZID=America/New_York:20201006T080000
DTEND;TZID=America/New_York:20201006T210000
END:VEVENT
END:VCALENDAR
