BEGIN:VCALENDAR
PRODID:-//eluceo/ical//2.0/EN
VERSION:2.0
CALSCALE:GREGORIAN
BEGIN:VEVENT
UID:c6008076c1d8a28aeb7b775ca6a48edf
DTSTAMP:20260422T020723Z
SUMMARY:Caring for Your Pelvic Floor: Postpartum and Beyond
DESCRIPTION:Jewish Federation of West-Central New Jersey\nCommunity Calenda
 r\nhttps://jfedwcnj.org/calendar/caring-for-your-pelvic-floor-postpartum-a
 nd-beyond-1705574239\n\nKatherine Shapiro\, MD\, Urology\, RWJBarnabas Hea
 lth Medical Group provider affiliated with Robert Wood Johnson University 
 Hospital Somerset\, is a Urogynecology and Reconstructive Pelvic Surgery s
 pecialist. During this event\, Dr. Shapiro will discuss female urinary inc
 ontinence and pelvic organ prolapse and explain the diagnosis and solution
 s available. She will also answer any participant questions to clarify wha
 t are often considered taboo topics. This program is presented in partners
 hip by t...
DTSTART;TZID=America/New_York:20240228T120000
DTEND;TZID=America/New_York:20240228T130000
END:VEVENT
END:VCALENDAR
