BEGIN:VCALENDAR
PRODID:-//eluceo/ical//2.0/EN
VERSION:2.0
CALSCALE:GREGORIAN
BEGIN:VEVENT
UID:01ae29f9f04c46900b530d8fd026e2ae
DTSTAMP:20260422T123926Z
SUMMARY:Caring for your Adult Parent
DESCRIPTION:Jewish Federation of West-Central New Jersey\nCommunity Calenda
 r\nhttps://jfedwcnj.org/calendar/caring-for-your-adult-parent-1425326412\n
 \nTemple Beth-El in Hillsborough to Host Forum: “Caring for Your Aging P
 arent”  March 15 at 9 AM\, Temple Social HallThe Temple Beth-El Brotherh
 ood will host a special forum titled “Caring for Your Aging Parent\,” 
 on March 15\, 9 AM\, at the Temple Social hall at 67 US Highway 206\, Hill
 sborough\, NJ.Representatives from the Oscar and Ella Wilf Campus for Seni
 or Living in Somerset\, NJ\, and Jewish Family Services of Somerset\, Hunt
 erdon and Warren Counties will provide an informational forum to...
DTSTART;TZID=America/New_York:20150315T090000
DTEND;TZID=America/New_York:20150315T110000
END:VEVENT
END:VCALENDAR
