BEGIN:VCALENDAR
PRODID:-//eluceo/ical//2.0/EN
VERSION:2.0
CALSCALE:GREGORIAN
BEGIN:VEVENT
UID:af0e7a0e2203466bd7cd9240cce4d86e
DTSTAMP:20260423T122455Z
SUMMARY:Caring for our Mental Health: Not Your Typical First Day of School
DESCRIPTION:Jewish Federation of West-Central New Jersey\nCommunity Calenda
 r\nhttps://jfedwcnj.org/calendar/caring-for-our-mental-health-not-your-typ
 ical-first-day-of-school\n\nThe Maimonides Society of the Jewish Federatio
 n of Somerset\, Hunterdon & Warren Counties Invites all Community Members 
 to the First of our Virtual Event Series:  \n\n\n\nCaring for our Mental
  Health: Not Your Typical First Day of School\n\n \n\n\n\n\n\n\n\n\n\nJoi
 n us for a community conversation with Dr. Hayley Cohen\, Child & Adolesc
 ent Psychiatrist & Jennifer Ellis Walters\, LCSW\, Special Needs Program C
 oordinator/Outpatient Therapist\, JFS. They will answer questions about he
 lping stud...
DTSTART;TZID=America/New_York:20210901T190000
DTEND;TZID=America/New_York:20210901T210000
END:VEVENT
END:VCALENDAR
