BEGIN:VCALENDAR
PRODID:-//eluceo/ical//2.0/EN
VERSION:2.0
CALSCALE:GREGORIAN
BEGIN:VEVENT
UID:a61954608f9c361637dda33f55157042
DTSTAMP:20260423T200002Z
SUMMARY:Cara Tannenbaum-In a Nutshell: Cooking and Baking with Nuts and See
 ds
DESCRIPTION:Jewish Federation of West-Central New Jersey\nCommunity Calenda
 r\nhttps://jfedwcnj.org/calendar/cara-tannenbaum-in-a-nutshell-cooking-and
 -baking-with-nuts-and-seeds-1414524410\n\nThe only cookbook of its kind\, 
 In a Nutshell is a complete guide to cooking and baking with nuts and seed
 s\, ranging from soups and sauces to pasta and dessert. Cara Tannenbaum an
 d Andrea Tutunjian deliver the essential cookbook for Mother Nature’s mo
 st versatile and nutritious ingredients. Publishers Weekly calls the book\
 , “A smart blend of toothsome and approachable recipes\, this volume giv
 es readers plenty of options for all times of the day as well asappetites.
 ” With more than 250 re...
DTSTART;TZID=America/New_York:20141116T100000
DTEND;TZID=America/New_York:20141116T120000
END:VEVENT
END:VCALENDAR
